BEGIN:VCALENDAR
VERSION:2.0
PRODID:-//Masterclass Smile to Move V3 - ECPv6.15.20//NONSGML v1.0//EN
CALSCALE:GREGORIAN
METHOD:PUBLISH
X-WR-CALNAME:Masterclass Smile to Move V3
X-ORIGINAL-URL:https://pcm3.smiletomove.it
X-WR-CALDESC:Eventi per Masterclass Smile to Move V3
REFRESH-INTERVAL;VALUE=DURATION:PT1H
X-Robots-Tag:noindex
X-PUBLISHED-TTL:PT1H
BEGIN:VTIMEZONE
TZID:Europe/Paris
BEGIN:DAYLIGHT
TZOFFSETFROM:+0100
TZOFFSETTO:+0200
TZNAME:CEST
DTSTART:20240331T010000
END:DAYLIGHT
BEGIN:STANDARD
TZOFFSETFROM:+0200
TZOFFSETTO:+0100
TZNAME:CET
DTSTART:20241027T010000
END:STANDARD
BEGIN:DAYLIGHT
TZOFFSETFROM:+0100
TZOFFSETTO:+0200
TZNAME:CEST
DTSTART:20250330T010000
END:DAYLIGHT
BEGIN:STANDARD
TZOFFSETFROM:+0200
TZOFFSETTO:+0100
TZNAME:CET
DTSTART:20251026T010000
END:STANDARD
BEGIN:DAYLIGHT
TZOFFSETFROM:+0100
TZOFFSETTO:+0200
TZNAME:CEST
DTSTART:20260329T010000
END:DAYLIGHT
BEGIN:STANDARD
TZOFFSETFROM:+0200
TZOFFSETTO:+0100
TZNAME:CET
DTSTART:20261025T010000
END:STANDARD
BEGIN:DAYLIGHT
TZOFFSETFROM:+0100
TZOFFSETTO:+0200
TZNAME:CEST
DTSTART:20270328T010000
END:DAYLIGHT
BEGIN:STANDARD
TZOFFSETFROM:+0200
TZOFFSETTO:+0100
TZNAME:CET
DTSTART:20271031T010000
END:STANDARD
END:VTIMEZONE
BEGIN:VEVENT
DTSTART;TZID=Europe/Paris:20260206T090000
DTEND;TZID=Europe/Paris:20260206T120000
DTSTAMP:20260419T144533
CREATED:20250915T152927Z
LAST-MODIFIED:20260114T084113Z
UID:987-1770368400-1770379200@pcm3.smiletomove.it
SUMMARY:People Communication Master – #12 WORKSHOP CROSSAZIENDALE
DESCRIPTION:Metti in cantiere il tuo progetto di comunicazione interna lavorando all’employee journey della tua azienda. Round table crossaziendale. \nhttps://us06web.zoom.us/j/87891354958
URL:https://pcm3.smiletomove.it/index.php/event/people-communication-master-12-workshop-crossaziendale/
CATEGORIES:People Communication Master
END:VEVENT
BEGIN:VEVENT
DTSTART;TZID=Europe/Paris:20260130T143000
DTEND;TZID=Europe/Paris:20260130T183000
DTSTAMP:20260419T144533
CREATED:20250826T153206Z
LAST-MODIFIED:20250926T155318Z
UID:907-1769783400-1769797800@pcm3.smiletomove.it
SUMMARY:People Communication Master - #11 Community design
DESCRIPTION:Le community in azienda come leva di engagement. \nCon Marta Maineri \nhttps://us06web.zoom.us/j/84661536169?pwd=Erg2sMlJcMJqP1jLUDykazgoiaCndv.1
URL:https://pcm3.smiletomove.it/index.php/event/people-communication-master-11-community-design/
CATEGORIES:People Communication Master
END:VEVENT
BEGIN:VEVENT
DTSTART;TZID=Europe/Paris:20260116T090000
DTEND;TZID=Europe/Paris:20260116T130000
DTSTAMP:20260419T144533
CREATED:20250826T153053Z
LAST-MODIFIED:20250926T155305Z
UID:905-1768554000-1768568400@pcm3.smiletomove.it
SUMMARY:People Communication Master - #10 Internal event management
DESCRIPTION:Obiettivi e progettazione di eventi interni. Organizzazione e comunicazione prima\, durante e dopo l’evento. Monitoraggio dei risultati. \nCon Valeria Farina \nhttps://us06web.zoom.us/j/89689422838?pwd=psSWqznSrtryx4gaDRibOTzfZYwtmw.1
URL:https://pcm3.smiletomove.it/index.php/event/people-communication-master-10-internal-event-management/
CATEGORIES:People Communication Master
END:VEVENT
BEGIN:VEVENT
DTSTART;TZID=Europe/Paris:20251219T090000
DTEND;TZID=Europe/Paris:20251219T130000
DTSTAMP:20260419T144533
CREATED:20250826T152917Z
LAST-MODIFIED:20250828T151503Z
UID:903-1766134800-1766149200@pcm3.smiletomove.it
SUMMARY:People Communication Master - #09 La newsletter interna
DESCRIPTION:Obiettivi\, segmentazione e impianto editoriale. Scegliere la piattaforma. Creare contenuti corporate e monitorarne l’efficacia. \nCon Alessandra Farabegoli \nhttps://us06web.zoom.us/j/89574522371?pwd=MwXZ76IUHDyxPdQwf0NaLxy20RdFqs.1
URL:https://pcm3.smiletomove.it/index.php/event/people-communication-master-09-la-newsletter-interna/
CATEGORIES:People Communication Master
END:VEVENT
BEGIN:VEVENT
DTSTART;TZID=Europe/Paris:20251205T090000
DTEND;TZID=Europe/Paris:20251205T130000
DTSTAMP:20260419T144533
CREATED:20250826T152804Z
LAST-MODIFIED:20250828T151444Z
UID:901-1764925200-1764939600@pcm3.smiletomove.it
SUMMARY:People Communication Master - #08 Linkedin management
DESCRIPTION:La presenza su LinkedIn nel journey delle tue Persone. Obiettivi\, piano editoriale\, creazione dei contenuti\, monitoraggio. \nCon Roberta Zantedeschi \nhttps://us06web.zoom.us/j/83253735145?pwd=JvaFvsHAx8ecldO1RorTNw7BRVzL2f.1
URL:https://pcm3.smiletomove.it/index.php/event/people-communication-master-08-linkedin-management/
CATEGORIES:People Communication Master
END:VEVENT
BEGIN:VEVENT
DTSTART;TZID=Europe/Paris:20251121T090000
DTEND;TZID=Europe/Paris:20251121T130000
DTSTAMP:20260419T144533
CREATED:20250826T152625Z
LAST-MODIFIED:20250828T151427Z
UID:899-1763715600-1763730000@pcm3.smiletomove.it
SUMMARY:People Communication Master - #07 - L’ecosistema di comunicazione interna
DESCRIPTION:Canali social e canali proprietari\, KPI e piano editoriale\, creazione del team\, monitoraggio dei risultati. \nCon Luca Busetto e Elena Longo \nhttps://us06web.zoom.us/j/85228024562?pwd=Gs5K8q5hzV5NtlS0cEXLiuD0j0E2Uu.1
URL:https://pcm3.smiletomove.it/index.php/event/people-communication-master-07-lecosistema-di-comunicazione-interna/
CATEGORIES:People Communication Master
END:VEVENT
BEGIN:VEVENT
DTSTART;TZID=Europe/Paris:20251107T090000
DTEND;TZID=Europe/Paris:20251107T130000
DTSTAMP:20260419T144533
CREATED:20250826T152309Z
LAST-MODIFIED:20250828T151411Z
UID:897-1762506000-1762520400@pcm3.smiletomove.it
SUMMARY:People Communication Master – #06 Creare presentazioni efficaci
DESCRIPTION:Come creare presentazioni efficaci\, in linea con la Corporate Brand Identity. Per i social\, gli e-learning\, le slide. \nCon Slide Queen \nhttps://us06web.zoom.us/j/84327538208?pwd=OsLHwxrOnc1sYxUYbIi2XT0baJWM0C.1
URL:https://pcm3.smiletomove.it/index.php/event/people-communication-master-06-creare-presentazioni-efficaci/
CATEGORIES:People Communication Master
END:VEVENT
BEGIN:VEVENT
DTSTART;TZID=Europe/Paris:20251024T090000
DTEND;TZID=Europe/Paris:20251024T130000
DTSTAMP:20260419T144533
CREATED:20250826T151629Z
LAST-MODIFIED:20250828T151356Z
UID:895-1761296400-1761310800@pcm3.smiletomove.it
SUMMARY:People Communication Master - #05 Video making fai da te
DESCRIPTION:Come realizzare dei video efficaci per i social\, senza essere video maker e con budget limitati. Dalla scelta del format al montaggio. \nCon Alessia Ronco \nhttps://us06web.zoom.us/j/81271590812?pwd=lj5UcjQ6GuwFA4EoWL9cpFVPHBbT5j.1
URL:https://pcm3.smiletomove.it/index.php/event/people-communication-master-05-video-making-fai-da-te/
CATEGORIES:People Communication Master
END:VEVENT
BEGIN:VEVENT
DTSTART;TZID=Europe/Paris:20251010T090000
DTEND;TZID=Europe/Paris:20251010T130000
DTSTAMP:20260419T144533
CREATED:20250826T151345Z
LAST-MODIFIED:20250828T151339Z
UID:893-1760086800-1760101200@pcm3.smiletomove.it
SUMMARY:People Communication Master – #04 Graphic design per non grafici
DESCRIPTION:Come auto-produrre grafiche semplici con Canva\, in linea con la Corporate Brand Identity\, e utilizzare immagini più efficaci. \nCon Eugenia Brini \nhttps://us06web.zoom.us/j/84364817382?pwd=Oyu4Ta1rtIXuJuNwEXAg0aSJBVR3jR.1
URL:https://pcm3.smiletomove.it/index.php/event/people-communication-master-04-graphic-design-per-non-grafici/
CATEGORIES:People Communication Master
END:VEVENT
BEGIN:VEVENT
DTSTART;TZID=Europe/Paris:20250926T090000
DTEND;TZID=Europe/Paris:20250926T130000
DTSTAMP:20260419T144533
CREATED:20250826T151230Z
LAST-MODIFIED:20250828T151322Z
UID:891-1758877200-1758891600@pcm3.smiletomove.it
SUMMARY:People Communication Master – #03 Scrivere come parla l’azienda
DESCRIPTION:Usare il tono di voce dell’azienda in ogni circostanza. Copy per la carta stampata\, per il web\, per i social\, per le e-mail. \nCon Marianna Martino \nhttps://us06web.zoom.us/j/81283140435?pwd=eWyCNmF4vhbA4ZQNgnFEIg8E2iFEWb.1
URL:https://pcm3.smiletomove.it/index.php/event/people-communication-master-03-scrivere-come-parla-lazienda/
CATEGORIES:People Communication Master
END:VEVENT
BEGIN:VEVENT
DTSTART;TZID=Europe/Paris:20250917T090000
DTEND;TZID=Europe/Paris:20250917T130000
DTSTAMP:20260419T144533
CREATED:20250826T150929Z
LAST-MODIFIED:20250828T151304Z
UID:889-1758099600-1758114000@pcm3.smiletomove.it
SUMMARY:People Communication Master - #02 Corporate Storytelling e Piano Editoriale
DESCRIPTION:Dalla cultura aziendale a una storia che ci appartiene e che si evolve nel tempo. E il social content Marketing dinamico che fa respirare lo storytelling aziendale al ritmo delle sue persone \nCon Mafe De Baggis \nhttps://us06web.zoom.us/j/87995954077?pwd=5VoJ1666fZ5xRTKbxKqSAa8Xpmoq5k.1
URL:https://pcm3.smiletomove.it/index.php/event/people-communication-master-02-corporate-storytelling-e-piano-editoriale/
CATEGORIES:People Communication Master
END:VEVENT
BEGIN:VEVENT
DTSTART;TZID=Europe/Paris:20250912T090000
DTEND;TZID=Europe/Paris:20250912T120000
DTSTAMP:20260419T144533
CREATED:20250826T150740Z
LAST-MODIFIED:20250828T151241Z
UID:886-1757667600-1757678400@pcm3.smiletomove.it
SUMMARY:People Communication Master - #01 L'employee Journey
DESCRIPTION:Persone al centro: dalla mappatura dell’employee journey alla scelta dei touchpoint. \nCon Marianna Marcuzzo e Veronica Carniello \nhttps://us06web.zoom.us/j/85167818971?pwd=aRKosVNEOinqFLrZWb4GIDKnkYok2c.1
URL:https://pcm3.smiletomove.it/index.php/event/people-communication-master-01-lemployee-journey/
CATEGORIES:People Communication Master
END:VEVENT
END:VCALENDAR